{"text_format":"1","workbook":"xlsx","n_sheets":8,"sheets":["0","1","2","3","4","5","6","final_average"],"not_rendered":{"charts":25,"images":3,"macros":1,"external_links":0,"defined_names":0,"comments":0,"pivot_tables":0},"unopened":[],"bounds":{"document_bytes":16777216,"sheet_cells":100000,"rows_first":2000,"rows_last":500,"rows_between":2000,"halvings":0,"cell_chars":16384,"cell_head_chars":4096},"cells_cut":0,"cells_raw":0,"read":"whole","date_system":"1900"}

{"sheet":"0","index":0,"n_rows":46,"n_cols":12,"rows_kept":46,"cut":false,"hidden":false,"merged":[[18,10,29,10],[34,2,45,2],[30,3,32,3],[21,3,29,3],[9,3,20,3],[35,6,45,6],[35,7,45,7],[35,8,45,8]]}
[]
[]
[null,null,"date",null,null,null,"taster"]
[null,null,null,null,null,null,null,null,null,null,null,{"$f":"G9","v":"reference"}]
[null,null,"range",null,null,null,"product"]
[]
[null,null,"flavour",null,null,null,"notes"]
[]
[null,null,null,null,null,null,"reference","sample 1","sample 2"]
[null,null,null,"f l a v o r","typicity",null,9,8,8]
[null,null,null,null,"milky",null,7,9,5]
[null,null,null,null,"creamy",null,3,8,4]
[null,null,null,null,"buttery",null,7,7,4]
[null,null,null,null,"eggy",null,3,6,3]
[null,null,null,null,"sweety",null,6,5,6]
[null,null,null,null,"cheesy",null,1,4,7]
[null,null,null,null,"cooked",null,2,3,8]
[null,null,null,null,"metallic",null,0,2,8,null,null,{"$f":"H9","v":"sample 1"}]
[null,null,null,null,"mouldy",null,0,1,8]
[null,null,null,null,"bittery",null,0,6,8]
[null,null,null,null,"salty",null,2,1,8]
[null,null,null,"t e x t u r e","body",null,8,2,8]
[null,null,null,null,"creaminess",null,8,3,6]
[null,null,null,null,"chewiness",null,0,4,5]
[null,null,null,null,"oiliness",null,0,5,4]
[null,null,null,null,"iciness",null,1,6,1]
[null,null,null,null,"sandiness",null,0,7,2]
[null,null,null,null,"sponginess",null,0,8,3]
[null,null,null,null,"gumminess",null,2,9,4]
[null,null,null,null,"hardness",null,2,3,4]
[null,null,null,"general","colour",null,9,7,6]
[null,null,null,null,"appearance",null,9,8,9,null,null,{"$f":"I9","v":"sample 2"}]
[null,null,null,null,"preference",null,9,8,8]
[]
[null,null,"evaluation range","value","perception",null,"notes","notes","notes"]
[null,null,null,0,"null"]
[null,null,null,1,"-"]
[null,null,null,2,"-"]
[null,null,null,3,"-"]
[null,null,null,4,"-"]
[null,null,null,5,"medium"]
[null,null,null,6,"-"]
[null,null,null,7,"-"]
[null,null,null,8,"-"]
[null,null,null,9,"-"]
[null,null,null,10,"maximum"]

{"sheet":"1","index":1,"n_rows":46,"n_cols":12,"rows_kept":46,"cut":false,"hidden":false,"merged":[[18,10,29,10],[21,3,29,3],[30,3,32,3],[34,2,45,2],[35,6,45,6],[35,7,45,7],[35,8,45,8],[9,3,20,3]]}
[]
[]
[null,null,{"$f":"'0'!C3","v":"date"},null,null,null,{"$f":"'0'!G3","v":"taster"}]
[null,null,null,null,null,null,null,null,null,null,null,{"$f":"'0'!L4","v":"reference"}]
[null,null,{"$f":"'0'!C5","v":"range"},null,null,null,{"$f":"'0'!G5","v":"product"}]
[]
[null,null,{"$f":"'0'!C7","v":"flavour"},null,null,null,{"$f":"'0'!G7","v":"notes"}]
[]
[null,null,null,null,null,null,{"$f":"'0'!G9","v":"reference"},{"$f":"'0'!H9","v":"sample 1"},{"$f":"'0'!I9","v":"sample 2"}]
[null,null,null,{"$f":"'0'!D10:D21","v":"f l a v o r"},{"$f":"'0'!E10","v":"typicity"},null,{"$f":"'0'!G10","v":9},3,8]
[null,null,null,null,{"$f":"'0'!E11","v":"milky"},null,{"$f":"'0'!G11","v":7},3,5]
[null,null,null,null,{"$f":"'0'!E12","v":"creamy"},null,{"$f":"'0'!G12","v":3},3,4]
[null,null,null,null,{"$f":"'0'!E13","v":"buttery"},null,{"$f":"'0'!G13","v":7},5,2]
[null,null,null,null,{"$f":"'0'!E14","v":"eggy"},null,{"$f":"'0'!G14","v":3},4,3]
[null,null,null,null,{"$f":"'0'!E15","v":"sweety"},null,{"$f":"'0'!G15","v":6},4,6]
[null,null,null,null,{"$f":"'0'!E16","v":"cheesy"},null,{"$f":"'0'!G16","v":1},2,7]
[null,null,null,null,{"$f":"'0'!E17","v":"cooked"},null,{"$f":"'0'!G17","v":2},2,8]
[null,null,null,null,{"$f":"'0'!E18","v":"metallic"},null,{"$f":"'0'!G18","v":0},1,3,null,null,{"$f":"'0'!L18","v":"sample 1"}]
[null,null,null,null,{"$f":"'0'!E19","v":"mouldy"},null,{"$f":"'0'!G19","v":0},{"$f":"'0'!H19","v":1},3]
[null,null,null,null,{"$f":"'0'!E20","v":"bittery"},null,{"$f":"'0'!G20","v":0},1,8]
[null,null,null,null,{"$f":"'0'!E21","v":"salty"},null,{"$f":"'0'!G21","v":2},1,8]
[null,null,null,{"$f":"'0'!D22:D30","v":"t e x t u r e"},{"$f":"'0'!E22","v":"body"},null,{"$f":"'0'!G22","v":8},2,8]
[null,null,null,null,{"$f":"'0'!E23","v":"creaminess"},null,{"$f":"'0'!G23","v":8},8,3]
[null,null,null,null,{"$f":"'0'!E24","v":"chewiness"},null,{"$f":"'0'!G24","v":0},4,5]
[null,null,null,null,{"$f":"'0'!E25","v":"oiliness"},null,{"$f":"'0'!G25","v":0},3,4]
[null,null,null,null,{"$f":"'0'!E26","v":"iciness"},null,{"$f":"'0'!G26","v":1},6,1]
[null,null,null,null,{"$f":"'0'!E27","v":"sandiness"},null,{"$f":"'0'!G27","v":0},7,3]
[null,null,null,null,{"$f":"'0'!E28","v":"sponginess"},null,{"$f":"'0'!G28","v":0},8,3]
[null,null,null,null,{"$f":"'0'!E29","v":"gumminess"},null,{"$f":"'0'!G29","v":2},9,4]
[null,null,null,null,{"$f":"'0'!E30","v":"hardness"},null,{"$f":"'0'!G30","v":2},3,4]
[null,null,null,{"$f":"'0'!D31:D33","v":"general"},{"$f":"'0'!E31","v":"colour"},null,{"$f":"'0'!G31","v":9},7,6]
[null,null,null,null,{"$f":"'0'!E32","v":"appearance"},null,{"$f":"'0'!G32","v":9},5,3,null,null,{"$f":"'0'!L32","v":"sample 2"}]
[null,null,null,null,{"$f":"'0'!E33","v":"preference"},null,7,6,7]
[]
[null,null,{"$f":"'0'!C35:C46","v":"evaluation range"},{"$f":"'0'!D35","v":"value"},{"$f":"'0'!E35","v":"perception"},null,{"$f":"'0'!G35","v":"notes"},{"$f":"'0'!H35","v":"notes"},{"$f":"'0'!I35","v":"notes"}]
[null,null,null,{"$f":"'0'!D36","v":0},{"$f":"'0'!E36","v":"null"}]
[null,null,null,{"$f":"'0'!D37","v":1},{"$f":"'0'!E37","v":"-"}]
[null,null,null,{"$f":"'0'!D38","v":2},{"$f":"'0'!E38","v":"-"}]
[null,null,null,{"$f":"'0'!D39","v":3},{"$f":"'0'!E39","v":"-"}]
[null,null,null,{"$f":"'0'!D40","v":4},{"$f":"'0'!E40","v":"-"}]
[null,null,null,{"$f":"'0'!D41","v":5},{"$f":"'0'!E41","v":"medium"}]
[null,null,null,{"$f":"'0'!D42","v":6},{"$f":"'0'!E42","v":"-"}]
[null,null,null,{"$f":"'0'!D43","v":7},{"$f":"'0'!E43","v":"-"}]
[null,null,null,{"$f":"'0'!D44","v":8},{"$f":"'0'!E44","v":"-"}]
[null,null,null,{"$f":"'0'!D45","v":9},{"$f":"'0'!E45","v":"-"}]
[null,null,null,{"$f":"'0'!D46","v":10},{"$f":"'0'!E46","v":"maximum"}]

{"sheet":"2","index":2,"n_rows":46,"n_cols":12,"rows_kept":46,"cut":false,"hidden":false,"merged":[[9,3,20,3],[18,10,29,10],[21,3,29,3],[30,3,32,3],[34,2,45,2],[35,6,45,6],[35,7,45,7],[35,8,45,8]]}
[]
[]
[null,null,{"$f":"'0'!C3","v":"date"},null,null,null,{"$f":"'0'!G3","v":"taster"}]
[null,null,null,null,null,null,null,null,null,null,null,{"$f":"'0'!L4","v":"reference"}]
[null,null,{"$f":"'0'!C5","v":"range"},null,null,null,{"$f":"'0'!G5","v":"product"}]
[]
[null,null,{"$f":"'0'!C7","v":"flavour"},null,null,null,{"$f":"'0'!G7","v":"notes"}]
[]
[null,null,null,null,null,null,{"$f":"'0'!G9","v":"reference"},{"$f":"'0'!H9","v":"sample 1"},{"$f":"'0'!I9","v":"sample 2"}]
[null,null,null,{"$f":"'0'!D10:D21","v":"f l a v o r"},{"$f":"'0'!E10","v":"typicity"},null,{"$f":"'0'!G10","v":9},8,8]
[null,null,null,null,{"$f":"'0'!E11","v":"milky"},null,{"$f":"'0'!G11","v":7},4,5]
[null,null,null,null,{"$f":"'0'!E12","v":"creamy"},null,{"$f":"'0'!G12","v":3},6,4]
[null,null,null,null,{"$f":"'0'!E13","v":"buttery"},null,{"$f":"'0'!G13","v":7},7,2]
[null,null,null,null,{"$f":"'0'!E14","v":"eggy"},null,{"$f":"'0'!G14","v":3},9,3]
[null,null,null,null,{"$f":"'0'!E15","v":"sweety"},null,{"$f":"'0'!G15","v":6},4,6]
[null,null,null,null,{"$f":"'0'!E16","v":"cheesy"},null,{"$f":"'0'!G16","v":1},2,7]
[null,null,null,null,{"$f":"'0'!E17","v":"cooked"},null,{"$f":"'0'!G17","v":2},1,8]
[null,null,null,null,{"$f":"'0'!E18","v":"metallic"},null,{"$f":"'0'!G18","v":0},2,3,null,null,{"$f":"'0'!L18","v":"sample 1"}]
[null,null,null,null,{"$f":"'0'!E19","v":"mouldy"},null,{"$f":"'0'!G19","v":0},1,3]
[null,null,null,null,{"$f":"'0'!E20","v":"bittery"},null,{"$f":"'0'!G20","v":0},6,8]
[null,null,null,null,{"$f":"'0'!E21","v":"salty"},null,{"$f":"'0'!G21","v":2},1,8]
[null,null,null,{"$f":"'0'!D22:D30","v":"t e x t u r e"},{"$f":"'0'!E22","v":"body"},null,{"$f":"'0'!G22","v":8},2,8]
[null,null,null,null,{"$f":"'0'!E23","v":"creaminess"},null,{"$f":"'0'!G23","v":8},8,3]
[null,null,null,null,{"$f":"'0'!E24","v":"chewiness"},null,{"$f":"'0'!G24","v":0},4,5]
[null,null,null,null,{"$f":"'0'!E25","v":"oiliness"},null,{"$f":"'0'!G25","v":0},3,4]
[null,null,null,null,{"$f":"'0'!E26","v":"iciness"},null,{"$f":"'0'!G26","v":1},6,1]
[null,null,null,null,{"$f":"'0'!E27","v":"sandiness"},null,{"$f":"'0'!G27","v":0},7,3]
[null,null,null,null,{"$f":"'0'!E28","v":"sponginess"},null,{"$f":"'0'!G28","v":0},8,3]
[null,null,null,null,{"$f":"'0'!E29","v":"gumminess"},null,{"$f":"'0'!G29","v":2},9,4]
[null,null,null,null,{"$f":"'0'!E30","v":"hardness"},null,{"$f":"'0'!G30","v":2},3,4]
[null,null,null,{"$f":"'0'!D31:D33","v":"general"},{"$f":"'0'!E31","v":"colour"},null,{"$f":"'0'!G31","v":9},7,6]
[null,null,null,null,{"$f":"'0'!E32","v":"appearance"},null,{"$f":"'0'!G32","v":9},5,3,null,null,{"$f":"'0'!L32","v":"sample 2"}]
[null,null,null,null,{"$f":"'0'!E33","v":"preference"},null,5,8,5]
[]
[null,null,{"$f":"'0'!C35:C46","v":"evaluation range"},{"$f":"'0'!D35","v":"value"},{"$f":"'0'!E35","v":"perception"},null,{"$f":"'0'!G35","v":"notes"},{"$f":"'0'!H35","v":"notes"},{"$f":"'0'!I35","v":"notes"}]
[null,null,null,{"$f":"'0'!D36","v":0},{"$f":"'0'!E36","v":"null"}]
[null,null,null,{"$f":"'0'!D37","v":1},{"$f":"'0'!E37","v":"-"}]
[null,null,null,{"$f":"'0'!D38","v":2},{"$f":"'0'!E38","v":"-"}]
[null,null,null,{"$f":"'0'!D39","v":3},{"$f":"'0'!E39","v":"-"}]
[null,null,null,{"$f":"'0'!D40","v":4},{"$f":"'0'!E40","v":"-"}]
[null,null,null,{"$f":"'0'!D41","v":5},{"$f":"'0'!E41","v":"medium"}]
[null,null,null,{"$f":"'0'!D42","v":6},{"$f":"'0'!E42","v":"-"}]
[null,null,null,{"$f":"'0'!D43","v":7},{"$f":"'0'!E43","v":"-"}]
[null,null,null,{"$f":"'0'!D44","v":8},{"$f":"'0'!E44","v":"-"}]
[null,null,null,{"$f":"'0'!D45","v":9},{"$f":"'0'!E45","v":"-"}]
[null,null,null,{"$f":"'0'!D46","v":10},{"$f":"'0'!E46","v":"maximum"}]

{"sheet":"3","index":3,"n_rows":46,"n_cols":12,"rows_kept":46,"cut":false,"hidden":false,"merged":[[9,3,20,3],[18,10,29,10],[21,3,29,3],[30,3,32,3],[34,2,45,2],[35,6,45,6],[35,7,45,7],[35,8,45,8]]}
[]
[]
[null,null,{"$f":"'0'!C3","v":"date"},null,null,null,{"$f":"'0'!G3","v":"taster"}]
[null,null,null,null,null,null,null,null,null,null,null,{"$f":"'0'!L4","v":"reference"}]
[null,null,{"$f":"'0'!C5","v":"range"},null,null,null,{"$f":"'0'!G5","v":"product"}]
[]
[null,null,{"$f":"'0'!C7","v":"flavour"},null,null,null,{"$f":"'0'!G7","v":"notes"}]
[]
[null,null,null,null,null,null,{"$f":"'0'!G9","v":"reference"},{"$f":"'0'!H9","v":"sample 1"},{"$f":"'0'!I9","v":"sample 2"}]
[null,null,null,{"$f":"'0'!D10:D21","v":"f l a v o r"},{"$f":"'0'!E10","v":"typicity"},null,{"$f":"'0'!G10","v":9},8,3]
[null,null,null,null,{"$f":"'0'!E11","v":"milky"},null,{"$f":"'0'!G11","v":7},3,5]
[null,null,null,null,{"$f":"'0'!E12","v":"creamy"},null,{"$f":"'0'!G12","v":3},8,4]
[null,null,null,null,{"$f":"'0'!E13","v":"buttery"},null,{"$f":"'0'!G13","v":7},7,4]
[null,null,null,null,{"$f":"'0'!E14","v":"eggy"},null,{"$f":"'0'!G14","v":3},6,3]
[null,null,null,null,{"$f":"'0'!E15","v":"sweety"},null,{"$f":"'0'!G15","v":6},4,6]
[null,null,null,null,{"$f":"'0'!E16","v":"cheesy"},null,{"$f":"'0'!G16","v":1},4,7]
[null,null,null,null,{"$f":"'0'!E17","v":"cooked"},null,{"$f":"'0'!G17","v":2},3,3]
[null,null,null,null,{"$f":"'0'!E18","v":"metallic"},null,{"$f":"'0'!G18","v":0},2,8,null,null,{"$f":"'0'!L18","v":"sample 1"}]
[null,null,null,null,{"$f":"'0'!E19","v":"mouldy"},null,{"$f":"'0'!G19","v":0},1,3]
[null,null,null,null,{"$f":"'0'!E20","v":"bittery"},null,{"$f":"'0'!G20","v":0},6,3]
[null,null,null,null,{"$f":"'0'!E21","v":"salty"},null,{"$f":"'0'!G21","v":2},1,8]
[null,null,null,{"$f":"'0'!D22:D30","v":"t e x t u r e"},{"$f":"'0'!E22","v":"body"},null,{"$f":"'0'!G22","v":8},2,8]
[null,null,null,null,{"$f":"'0'!E23","v":"creaminess"},null,{"$f":"'0'!G23","v":8},3,6]
[null,null,null,null,{"$f":"'0'!E24","v":"chewiness"},null,{"$f":"'0'!G24","v":0},7,3]
[null,null,null,null,{"$f":"'0'!E25","v":"oiliness"},null,{"$f":"'0'!G25","v":0},5,4]
[null,null,null,null,{"$f":"'0'!E26","v":"iciness"},null,{"$f":"'0'!G26","v":1},1,1]
[null,null,null,null,{"$f":"'0'!E27","v":"sandiness"},null,{"$f":"'0'!G27","v":0},7,2]
[null,null,null,null,{"$f":"'0'!E28","v":"sponginess"},null,{"$f":"'0'!G28","v":0},8,3]
[null,null,null,null,{"$f":"'0'!E29","v":"gumminess"},null,{"$f":"'0'!G29","v":2},1,4]
[null,null,null,null,{"$f":"'0'!E30","v":"hardness"},null,{"$f":"'0'!G30","v":2},3,4]
[null,null,null,{"$f":"'0'!D31:D33","v":"general"},{"$f":"'0'!E31","v":"colour"},null,{"$f":"'0'!G31","v":9},7,6]
[null,null,null,null,{"$f":"'0'!E32","v":"appearance"},null,{"$f":"'0'!G32","v":9},1,3,null,null,{"$f":"'0'!L32","v":"sample 2"}]
[null,null,null,null,{"$f":"'0'!E33","v":"preference"},null,6,6,7]
[]
[null,null,{"$f":"'0'!C35:C46","v":"evaluation range"},{"$f":"'0'!D35","v":"value"},{"$f":"'0'!E35","v":"perception"},null,{"$f":"'0'!G35","v":"notes"},{"$f":"'0'!H35","v":"notes"},{"$f":"'0'!I35","v":"notes"}]
[null,null,null,{"$f":"'0'!D36","v":0},{"$f":"'0'!E36","v":"null"}]
[null,null,null,{"$f":"'0'!D37","v":1},{"$f":"'0'!E37","v":"-"}]
[null,null,null,{"$f":"'0'!D38","v":2},{"$f":"'0'!E38","v":"-"}]
[null,null,null,{"$f":"'0'!D39","v":3},{"$f":"'0'!E39","v":"-"}]
[null,null,null,{"$f":"'0'!D40","v":4},{"$f":"'0'!E40","v":"-"}]
[null,null,null,{"$f":"'0'!D41","v":5},{"$f":"'0'!E41","v":"medium"}]
[null,null,null,{"$f":"'0'!D42","v":6},{"$f":"'0'!E42","v":"-"}]
[null,null,null,{"$f":"'0'!D43","v":7},{"$f":"'0'!E43","v":"-"}]
[null,null,null,{"$f":"'0'!D44","v":8},{"$f":"'0'!E44","v":"-"}]
[null,null,null,{"$f":"'0'!D45","v":9},{"$f":"'0'!E45","v":"-"}]
[null,null,null,{"$f":"'0'!D46","v":10},{"$f":"'0'!E46","v":"maximum"}]

{"sheet":"4","index":4,"n_rows":46,"n_cols":12,"rows_kept":46,"cut":false,"hidden":false,"merged":[[9,3,20,3],[18,10,29,10],[21,3,29,3],[30,3,32,3],[34,2,45,2],[35,6,45,6],[35,7,45,7],[35,8,45,8]]}
[]
[]
[null,null,{"$f":"'0'!C3","v":"date"},null,null,null,{"$f":"'0'!G3","v":"taster"}]
[null,null,null,null,null,null,null,null,null,null,null,{"$f":"'0'!L4","v":"reference"}]
[null,null,{"$f":"'0'!C5","v":"range"},null,null,null,{"$f":"'0'!G5","v":"product"}]
[]
[null,null,{"$f":"'0'!C7","v":"flavour"},null,null,null,{"$f":"'0'!G7","v":"notes"}]
[]
[null,null,null,null,null,null,{"$f":"'0'!G9","v":"reference"},{"$f":"'0'!H9","v":"sample 1"},{"$f":"'0'!I9","v":"sample 2"}]
[null,null,null,{"$f":"'0'!D10:D21","v":"f l a v o r"},{"$f":"'0'!E10","v":"typicity"},null,{"$f":"'0'!G10","v":9},1,4]
[null,null,null,null,{"$f":"'0'!E11","v":"milky"},null,{"$f":"'0'!G11","v":7},9,5]
[null,null,null,null,{"$f":"'0'!E12","v":"creamy"},null,{"$f":"'0'!G12","v":3},8,4]
[null,null,null,null,{"$f":"'0'!E13","v":"buttery"},null,{"$f":"'0'!G13","v":7},7,4]
[null,null,null,null,{"$f":"'0'!E14","v":"eggy"},null,{"$f":"'0'!G14","v":3},6,3]
[null,null,null,null,{"$f":"'0'!E15","v":"sweety"},null,{"$f":"'0'!G15","v":6},5,6]
[null,null,null,null,{"$f":"'0'!E16","v":"cheesy"},null,{"$f":"'0'!G16","v":1},4,7]
[null,null,null,null,{"$f":"'0'!E17","v":"cooked"},null,{"$f":"'0'!G17","v":2},3,2]
[null,null,null,null,{"$f":"'0'!E18","v":"metallic"},null,{"$f":"'0'!G18","v":0},2,8,null,null,{"$f":"'0'!L18","v":"sample 1"}]
[null,null,null,null,{"$f":"'0'!E19","v":"mouldy"},null,{"$f":"'0'!G19","v":0},1,8]
[null,null,null,null,{"$f":"'0'!E20","v":"bittery"},null,{"$f":"'0'!G20","v":0},1,2]
[null,null,null,null,{"$f":"'0'!E21","v":"salty"},null,{"$f":"'0'!G21","v":2},1,8]
[null,null,null,{"$f":"'0'!D22:D30","v":"t e x t u r e"},{"$f":"'0'!E22","v":"body"},null,{"$f":"'0'!G22","v":8},2,8]
[null,null,null,null,{"$f":"'0'!E23","v":"creaminess"},null,{"$f":"'0'!G23","v":8},3,6]
[null,null,null,null,{"$f":"'0'!E24","v":"chewiness"},null,{"$f":"'0'!G24","v":0},4,5]
[null,null,null,null,{"$f":"'0'!E25","v":"oiliness"},null,{"$f":"'0'!G25","v":0},5,4]
[null,null,null,null,{"$f":"'0'!E26","v":"iciness"},null,{"$f":"'0'!G26","v":1},3,1]
[null,null,null,null,{"$f":"'0'!E27","v":"sandiness"},null,{"$f":"'0'!G27","v":0},7,2]
[null,null,null,null,{"$f":"'0'!E28","v":"sponginess"},null,{"$f":"'0'!G28","v":0},8,3]
[null,null,null,null,{"$f":"'0'!E29","v":"gumminess"},null,{"$f":"'0'!G29","v":2},9,4]
[null,null,null,null,{"$f":"'0'!E30","v":"hardness"},null,{"$f":"'0'!G30","v":2},3,4]
[null,null,null,{"$f":"'0'!D31:D33","v":"general"},{"$f":"'0'!E31","v":"colour"},null,{"$f":"'0'!G31","v":9},7,6]
[null,null,null,null,{"$f":"'0'!E32","v":"appearance"},null,{"$f":"'0'!G32","v":9},8,2,null,null,{"$f":"'0'!L32","v":"sample 2"}]
[null,null,null,null,{"$f":"'0'!E33","v":"preference"},null,8,6,7]
[]
[null,null,{"$f":"'0'!C35:C46","v":"evaluation range"},{"$f":"'0'!D35","v":"value"},{"$f":"'0'!E35","v":"perception"},null,{"$f":"'0'!G35","v":"notes"},{"$f":"'0'!H35","v":"notes"},{"$f":"'0'!I35","v":"notes"}]
[null,null,null,{"$f":"'0'!D36","v":0},{"$f":"'0'!E36","v":"null"}]
[null,null,null,{"$f":"'0'!D37","v":1},{"$f":"'0'!E37","v":"-"}]
[null,null,null,{"$f":"'0'!D38","v":2},{"$f":"'0'!E38","v":"-"}]
[null,null,null,{"$f":"'0'!D39","v":3},{"$f":"'0'!E39","v":"-"}]
[null,null,null,{"$f":"'0'!D40","v":4},{"$f":"'0'!E40","v":"-"}]
[null,null,null,{"$f":"'0'!D41","v":5},{"$f":"'0'!E41","v":"medium"}]
[null,null,null,{"$f":"'0'!D42","v":6},{"$f":"'0'!E42","v":"-"}]
[null,null,null,{"$f":"'0'!D43","v":7},{"$f":"'0'!E43","v":"-"}]
[null,null,null,{"$f":"'0'!D44","v":8},{"$f":"'0'!E44","v":"-"}]
[null,null,null,{"$f":"'0'!D45","v":9},{"$f":"'0'!E45","v":"-"}]
[null,null,null,{"$f":"'0'!D46","v":10},{"$f":"'0'!E46","v":"maximum"}]

{"sheet":"5","index":5,"n_rows":46,"n_cols":12,"rows_kept":46,"cut":false,"hidden":false,"merged":[[9,3,20,3],[18,10,29,10],[21,3,29,3],[30,3,32,3],[34,2,45,2],[35,6,45,6],[35,7,45,7],[35,8,45,8]]}
[]
[]
[null,null,{"$f":"'0'!C3","v":"date"},null,null,null,{"$f":"'0'!G3","v":"taster"}]
[null,null,null,null,null,null,null,null,null,null,null,{"$f":"'0'!L4","v":"reference"}]
[null,null,{"$f":"'0'!C5","v":"range"},null,null,null,{"$f":"'0'!G5","v":"product"}]
[]
[null,null,{"$f":"'0'!C7","v":"flavour"},null,null,null,{"$f":"'0'!G7","v":"notes"}]
[]
[null,null,null,null,null,null,{"$f":"'0'!G9","v":"reference"},{"$f":"'0'!H9","v":"sample 1"},{"$f":"'0'!I9","v":"sample 2"}]
[null,null,null,{"$f":"'0'!D10:D21","v":"f l a v o r"},{"$f":"'0'!E10","v":"typicity"},null,{"$f":"'0'!G10","v":9},8,1]
[null,null,null,null,{"$f":"'0'!E11","v":"milky"},null,{"$f":"'0'!G11","v":7},9,5]
[null,null,null,null,{"$f":"'0'!E12","v":"creamy"},null,{"$f":"'0'!G12","v":3},8,4]
[null,null,null,null,{"$f":"'0'!E13","v":"buttery"},null,{"$f":"'0'!G13","v":7},7,4]
[null,null,null,null,{"$f":"'0'!E14","v":"eggy"},null,{"$f":"'0'!G14","v":3},6,3]
[null,null,null,null,{"$f":"'0'!E15","v":"sweety"},null,{"$f":"'0'!G15","v":6},5,6]
[null,null,null,null,{"$f":"'0'!E16","v":"cheesy"},null,{"$f":"'0'!G16","v":1},4,7]
[null,null,null,null,{"$f":"'0'!E17","v":"cooked"},null,{"$f":"'0'!G17","v":2},3,8]
[null,null,null,null,{"$f":"'0'!E18","v":"metallic"},null,{"$f":"'0'!G18","v":0},2,6,null,null,{"$f":"'0'!L18","v":"sample 1"}]
[null,null,null,null,{"$f":"'0'!E19","v":"mouldy"},null,{"$f":"'0'!G19","v":0},1,8]
[null,null,null,null,{"$f":"'0'!E20","v":"bittery"},null,{"$f":"'0'!G20","v":0},6,6]
[null,null,null,null,{"$f":"'0'!E21","v":"salty"},null,{"$f":"'0'!G21","v":2},1,3]
[null,null,null,{"$f":"'0'!D22:D30","v":"t e x t u r e"},{"$f":"'0'!E22","v":"body"},null,{"$f":"'0'!G22","v":8},2,8]
[null,null,null,null,{"$f":"'0'!E23","v":"creaminess"},null,{"$f":"'0'!G23","v":8},3,6]
[null,null,null,null,{"$f":"'0'!E24","v":"chewiness"},null,{"$f":"'0'!G24","v":0},4,5]
[null,null,null,null,{"$f":"'0'!E25","v":"oiliness"},null,{"$f":"'0'!G25","v":0},5,4]
[null,null,null,null,{"$f":"'0'!E26","v":"iciness"},null,{"$f":"'0'!G26","v":1},6,1]
[null,null,null,null,{"$f":"'0'!E27","v":"sandiness"},null,{"$f":"'0'!G27","v":0},7,2]
[null,null,null,null,{"$f":"'0'!E28","v":"sponginess"},null,{"$f":"'0'!G28","v":0},8,3]
[null,null,null,null,{"$f":"'0'!E29","v":"gumminess"},null,{"$f":"'0'!G29","v":2},9,4]
[null,null,null,null,{"$f":"'0'!E30","v":"hardness"},null,{"$f":"'0'!G30","v":2},3,4]
[null,null,null,{"$f":"'0'!D31:D33","v":"general"},{"$f":"'0'!E31","v":"colour"},null,{"$f":"'0'!G31","v":9},7,6]
[null,null,null,null,{"$f":"'0'!E32","v":"appearance"},null,{"$f":"'0'!G32","v":9},8,6,null,null,{"$f":"'0'!L32","v":"sample 2"}]
[null,null,null,null,{"$f":"'0'!E33","v":"preference"},null,7,7,9]
[]
[null,null,{"$f":"'0'!C35:C46","v":"evaluation range"},{"$f":"'0'!D35","v":"value"},{"$f":"'0'!E35","v":"perception"},null,{"$f":"'0'!G35","v":"notes"},{"$f":"'0'!H35","v":"notes"},{"$f":"'0'!I35","v":"notes"}]
[null,null,null,{"$f":"'0'!D36","v":0},{"$f":"'0'!E36","v":"null"}]
[null,null,null,{"$f":"'0'!D37","v":1},{"$f":"'0'!E37","v":"-"}]
[null,null,null,{"$f":"'0'!D38","v":2},{"$f":"'0'!E38","v":"-"}]
[null,null,null,{"$f":"'0'!D39","v":3},{"$f":"'0'!E39","v":"-"}]
[null,null,null,{"$f":"'0'!D40","v":4},{"$f":"'0'!E40","v":"-"}]
[null,null,null,{"$f":"'0'!D41","v":5},{"$f":"'0'!E41","v":"medium"}]
[null,null,null,{"$f":"'0'!D42","v":6},{"$f":"'0'!E42","v":"-"}]
[null,null,null,{"$f":"'0'!D43","v":7},{"$f":"'0'!E43","v":"-"}]
[null,null,null,{"$f":"'0'!D44","v":8},{"$f":"'0'!E44","v":"-"}]
[null,null,null,{"$f":"'0'!D45","v":9},{"$f":"'0'!E45","v":"-"}]
[null,null,null,{"$f":"'0'!D46","v":10},{"$f":"'0'!E46","v":"maximum"}]

{"sheet":"6","index":6,"n_rows":46,"n_cols":12,"rows_kept":46,"cut":false,"hidden":false,"merged":[[9,3,20,3],[18,10,29,10],[21,3,29,3],[30,3,32,3],[34,2,45,2],[35,6,45,6],[35,7,45,7],[35,8,45,8]]}
[]
[]
[null,null,{"$f":"'0'!C3","v":"date"},null,null,null,{"$f":"'0'!G3","v":"taster"}]
[null,null,null,null,null,null,null,null,null,null,null,{"$f":"'0'!L4","v":"reference"}]
[null,null,{"$f":"'0'!C5","v":"range"},null,null,null,{"$f":"'0'!G5","v":"product"}]
[]
[null,null,{"$f":"'0'!C7","v":"flavour"},null,null,null,{"$f":"'0'!G7","v":"notes"}]
[]
[null,null,null,null,null,null,{"$f":"'0'!G9","v":"reference"},{"$f":"'0'!H9","v":"sample 1"},{"$f":"'0'!I9","v":"sample 2"}]
[null,null,null,{"$f":"'0'!D10:D21","v":"f l a v o r"},{"$f":"'0'!E10","v":"typicity"},null,{"$f":"'0'!G10","v":9},8,5]
[null,null,null,null,{"$f":"'0'!E11","v":"milky"},null,{"$f":"'0'!G11","v":7},9,5]
[null,null,null,null,{"$f":"'0'!E12","v":"creamy"},null,{"$f":"'0'!G12","v":3},8,4]
[null,null,null,null,{"$f":"'0'!E13","v":"buttery"},null,{"$f":"'0'!G13","v":7},7,4]
[null,null,null,null,{"$f":"'0'!E14","v":"eggy"},null,{"$f":"'0'!G14","v":3},6,3]
[null,null,null,null,{"$f":"'0'!E15","v":"sweety"},null,{"$f":"'0'!G15","v":6},5,6]
[null,null,null,null,{"$f":"'0'!E16","v":"cheesy"},null,{"$f":"'0'!G16","v":1},4,9]
[null,null,null,null,{"$f":"'0'!E17","v":"cooked"},null,{"$f":"'0'!G17","v":2},3,8]
[null,null,null,null,{"$f":"'0'!E18","v":"metallic"},null,{"$f":"'0'!G18","v":0},2,8,null,null,{"$f":"'0'!L18","v":"sample 1"}]
[null,null,null,null,{"$f":"'0'!E19","v":"mouldy"},null,{"$f":"'0'!G19","v":0},1,9]
[null,null,null,null,{"$f":"'0'!E20","v":"bittery"},null,{"$f":"'0'!G20","v":0},6,9]
[null,null,null,null,{"$f":"'0'!E21","v":"salty"},null,{"$f":"'0'!G21","v":2},1,8]
[null,null,null,{"$f":"'0'!D22:D30","v":"t e x t u r e"},{"$f":"'0'!E22","v":"body"},null,{"$f":"'0'!G22","v":8},2,8]
[null,null,null,null,{"$f":"'0'!E23","v":"creaminess"},null,{"$f":"'0'!G23","v":8},3,6]
[null,null,null,null,{"$f":"'0'!E24","v":"chewiness"},null,{"$f":"'0'!G24","v":0},4,1]
[null,null,null,null,{"$f":"'0'!E25","v":"oiliness"},null,{"$f":"'0'!G25","v":0},5,4]
[null,null,null,null,{"$f":"'0'!E26","v":"iciness"},null,{"$f":"'0'!G26","v":1},6,1]
[null,null,null,null,{"$f":"'0'!E27","v":"sandiness"},null,{"$f":"'0'!G27","v":0},7,2]
[null,null,null,null,{"$f":"'0'!E28","v":"sponginess"},null,{"$f":"'0'!G28","v":0},8,3]
[null,null,null,null,{"$f":"'0'!E29","v":"gumminess"},null,{"$f":"'0'!G29","v":2},9,4]
[null,null,null,null,{"$f":"'0'!E30","v":"hardness"},null,{"$f":"'0'!G30","v":2},3,9]
[null,null,null,{"$f":"'0'!D31:D33","v":"general"},{"$f":"'0'!E31","v":"colour"},null,{"$f":"'0'!G31","v":9},7,9]
[null,null,null,null,{"$f":"'0'!E32","v":"appearance"},null,{"$f":"'0'!G32","v":9},8,9,null,null,{"$f":"'0'!L32","v":"sample 2"}]
[null,null,null,null,{"$f":"'0'!E33","v":"preference"},null,7,8,9]
[]
[null,null,{"$f":"'0'!C35:C46","v":"evaluation range"},{"$f":"'0'!D35","v":"value"},{"$f":"'0'!E35","v":"perception"},null,{"$f":"'0'!G35","v":"notes"},{"$f":"'0'!H35","v":"notes"},{"$f":"'0'!I35","v":"notes"}]
[null,null,null,{"$f":"'0'!D36","v":0},{"$f":"'0'!E36","v":"null"}]
[null,null,null,{"$f":"'0'!D37","v":1},{"$f":"'0'!E37","v":"-"}]
[null,null,null,{"$f":"'0'!D38","v":2},{"$f":"'0'!E38","v":"-"}]
[null,null,null,{"$f":"'0'!D39","v":3},{"$f":"'0'!E39","v":"-"}]
[null,null,null,{"$f":"'0'!D40","v":4},{"$f":"'0'!E40","v":"-"}]
[null,null,null,{"$f":"'0'!D41","v":5},{"$f":"'0'!E41","v":"medium"}]
[null,null,null,{"$f":"'0'!D42","v":6},{"$f":"'0'!E42","v":"-"}]
[null,null,null,{"$f":"'0'!D43","v":7},{"$f":"'0'!E43","v":"-"}]
[null,null,null,{"$f":"'0'!D44","v":8},{"$f":"'0'!E44","v":"-"}]
[null,null,null,{"$f":"'0'!D45","v":9},{"$f":"'0'!E45","v":"-"}]
[null,null,null,{"$f":"'0'!D46","v":10},{"$f":"'0'!E46","v":"maximum"}]

{"sheet":"final_average","index":7,"n_rows":46,"n_cols":13,"rows_kept":46,"cut":false,"hidden":false,"merged":[[34,2,45,2],[9,3,20,3],[18,11,29,11],[21,3,29,3],[30,3,32,3]]}
[]
[]
[null,null,{"$f":"'0'!C3","v":"date"},null,null,null,{"$f":"'0'!G3","v":"taster"}]
[null,null,null,null,null,null,null,null,null,null,null,null,{"$f":"'0'!L4","v":"reference"}]
[null,null,{"$f":"'0'!C5","v":"range"},null,null,null,{"$f":"'0'!G5","v":"product"}]
[]
[null,null,{"$f":"'0'!C7","v":"flavour"}]
[]
[null,null,null,null,null,null,{"$f":"'0'!G9","v":"reference"},{"$f":"'0'!H9","v":"sample 1"},{"$f":"'0'!I9","v":"sample 2"},"trend"]
[null,null,null,{"$f":"'0'!D10:D21","v":"f l a v o r"},{"$f":"'0'!E10","v":"typicity"},null,{"$f":"AVERAGE('1:6'!G10)","v":9},{"$f":"AVERAGE('1:6'!H10)","v":6},{"$f":"AVERAGE('1:6'!I10)","v":4.833333333333333}]
[null,null,null,null,{"$f":"'0'!E11","v":"milky"},null,{"$f":"AVERAGE('1:6'!G11)","v":7},{"$f":"AVERAGE('1:6'!H11)","v":6.166666666666667},{"$f":"AVERAGE('1:6'!I11)","v":5}]
[null,null,null,null,{"$f":"'0'!E12","v":"creamy"},null,{"$f":"AVERAGE('1:6'!G12)","v":3},{"$f":"AVERAGE('1:6'!H12)","v":6.833333333333333},{"$f":"AVERAGE('1:6'!I12)","v":4}]
[null,null,null,null,{"$f":"'0'!E13","v":"buttery"},null,{"$f":"AVERAGE('1:6'!G13)","v":7},{"$f":"AVERAGE('1:6'!H13)","v":6.666666666666667},{"$f":"AVERAGE('1:6'!I13)","v":3.3333333333333335}]
[null,null,null,null,{"$f":"'0'!E14","v":"eggy"},null,{"$f":"AVERAGE('1:6'!G14)","v":3},{"$f":"AVERAGE('1:6'!H14)","v":6.166666666666667},{"$f":"AVERAGE('1:6'!I14)","v":3}]
[null,null,null,null,{"$f":"'0'!E15","v":"sweety"},null,{"$f":"AVERAGE('1:6'!G15)","v":6},{"$f":"AVERAGE('1:6'!H15)","v":4.5},{"$f":"AVERAGE('1:6'!I15)","v":6}]
[null,null,null,null,{"$f":"'0'!E16","v":"cheesy"},null,{"$f":"AVERAGE('1:6'!G16)","v":1},{"$f":"AVERAGE('1:6'!H16)","v":3.3333333333333335},{"$f":"AVERAGE('1:6'!I16)","v":7.333333333333333}]
[null,null,null,null,{"$f":"'0'!E17","v":"cooked"},null,{"$f":"AVERAGE('1:6'!G17)","v":2},{"$f":"AVERAGE('1:6'!H17)","v":2.5},{"$f":"AVERAGE('1:6'!I17)","v":6.166666666666667}]
[null,null,null,null,{"$f":"'0'!E18","v":"metallic"},null,{"$f":"AVERAGE('1:6'!G18)","v":0},{"$f":"AVERAGE('1:6'!H18)","v":1.8333333333333333},{"$f":"AVERAGE('1:6'!I18)","v":6},null,null,null,{"$f":"'0'!L18","v":"sample 1"}]
[null,null,null,null,{"$f":"'0'!E19","v":"mouldy"},null,{"$f":"AVERAGE('1:6'!G19)","v":0},{"$f":"AVERAGE('1:6'!H19)","v":1},{"$f":"AVERAGE('1:6'!I19)","v":5.666666666666667}]
[null,null,null,null,{"$f":"'0'!E20","v":"bittery"},null,{"$f":"AVERAGE('1:6'!G20)","v":0},{"$f":"AVERAGE('1:6'!H20)","v":4.333333333333333},{"$f":"AVERAGE('1:6'!I20)","v":6}]
[null,null,null,null,{"$f":"'0'!E21","v":"salty"},null,{"$f":"AVERAGE('1:6'!G21)","v":2},{"$f":"AVERAGE('1:6'!H21)","v":1},{"$f":"AVERAGE('1:6'!I21)","v":7.166666666666667}]
[null,null,null,"t e x t u r e",{"$f":"'0'!E22","v":"body"},null,{"$f":"AVERAGE('1:6'!G22)","v":8},{"$f":"AVERAGE('1:6'!H22)","v":2},{"$f":"AVERAGE('1:6'!I22)","v":8}]
[null,null,null,null,{"$f":"'0'!E23","v":"creaminess"},null,{"$f":"AVERAGE('1:6'!G23)","v":8},{"$f":"AVERAGE('1:6'!H23)","v":4.666666666666667},{"$f":"AVERAGE('1:6'!I23)","v":5}]
[null,null,null,null,{"$f":"'0'!E24","v":"chewiness"},null,{"$f":"AVERAGE('1:6'!G24)","v":0},{"$f":"AVERAGE('1:6'!H24)","v":4.5},{"$f":"AVERAGE('1:6'!I24)","v":4}]
[null,null,null,null,{"$f":"'0'!E25","v":"oiliness"},null,{"$f":"AVERAGE('1:6'!G25)","v":0},{"$f":"AVERAGE('1:6'!H25)","v":4.333333333333333},{"$f":"AVERAGE('1:6'!I25)","v":4}]
[null,null,null,null,{"$f":"'0'!E26","v":"iciness"},null,{"$f":"AVERAGE('1:6'!G26)","v":1},{"$f":"AVERAGE('1:6'!H26)","v":4.666666666666667},{"$f":"AVERAGE('1:6'!I26)","v":1}]
[null,null,null,null,{"$f":"'0'!E27","v":"sandiness"},null,{"$f":"AVERAGE('1:6'!G27)","v":0},{"$f":"AVERAGE('1:6'!H27)","v":7},{"$f":"AVERAGE('1:6'!I27)","v":2.3333333333333335}]
[null,null,null,null,{"$f":"'0'!E28","v":"sponginess"},null,{"$f":"AVERAGE('1:6'!G28)","v":0},{"$f":"AVERAGE('1:6'!H28)","v":8},{"$f":"AVERAGE('1:6'!I28)","v":3}]
[null,null,null,null,{"$f":"'0'!E29","v":"gumminess"},null,{"$f":"AVERAGE('1:6'!G29)","v":2},{"$f":"AVERAGE('1:6'!H29)","v":7.666666666666667},{"$f":"AVERAGE('1:6'!I29)","v":4}]
[null,null,null,null,{"$f":"'0'!E30","v":"hardness"},null,{"$f":"AVERAGE('1:6'!G30)","v":2},{"$f":"AVERAGE('1:6'!H30)","v":3},{"$f":"AVERAGE('1:6'!I30)","v":4.833333333333333}]
[null,null,null,"general",{"$f":"'0'!E31","v":"colour"},null,{"$f":"AVERAGE('1:6'!G31)","v":9},{"$f":"AVERAGE('1:6'!H31)","v":7},{"$f":"AVERAGE('1:6'!I31)","v":6.5}]
[null,null,null,null,{"$f":"'0'!E32","v":"appearance"},null,{"$f":"AVERAGE('1:6'!G32)","v":9},{"$f":"AVERAGE('1:6'!H32)","v":5.833333333333333},{"$f":"AVERAGE('1:6'!I32)","v":4.333333333333333},null,null,null,{"$f":"'0'!L32","v":"sample 2"}]
[null,null,null,null,{"$f":"'0'!E33","v":"preference"},null,{"$f":"AVERAGE('1:6'!G33)","v":6.666666666666667},{"$f":"AVERAGE('1:6'!H33)","v":6.833333333333333},{"$f":"AVERAGE('0'!I33,'2'!I33,'3'!I33,'4'!I33,'5'!I33,'6'!I33)","v":7.5}]
[]
[null,null,{"$f":"'0'!C35:C46","v":"evaluation range"},{"$f":"'0'!D35","v":"value"},{"$f":"'0'!E35","v":"perception"}]
[null,null,null,{"$f":"'0'!D36","v":0},{"$f":"'0'!E36","v":"null"}]
[null,null,null,{"$f":"'0'!D37","v":1},{"$f":"'0'!E37","v":"-"}]
[null,null,null,{"$f":"'0'!D38","v":2},{"$f":"'0'!E38","v":"-"}]
[null,null,null,{"$f":"'0'!D39","v":3},{"$f":"'0'!E39","v":"-"}]
[null,null,null,{"$f":"'0'!D40","v":4},{"$f":"'0'!E40","v":"-"}]
[null,null,null,{"$f":"'0'!D41","v":5},{"$f":"'0'!E41","v":"medium"}]
[null,null,null,{"$f":"'0'!D42","v":6},{"$f":"'0'!E42","v":"-"}]
[null,null,null,{"$f":"'0'!D43","v":7},{"$f":"'0'!E43","v":"-"}]
[null,null,null,{"$f":"'0'!D44","v":8},{"$f":"'0'!E44","v":"-"}]
[null,null,null,{"$f":"'0'!D45","v":9},{"$f":"'0'!E45","v":"-"}]
[null,null,null,{"$f":"'0'!D46","v":10},{"$f":"'0'!E46","v":"maximum"}]